BEGIN:VCALENDAR
VERSION:2.0
PRODID:-//wp-events-plugin.com//6.4.1//EN
TZID:Europe/Vienna
X-WR-TIMEZONE:Europe/Vienna
BEGIN:VEVENT
UID:184@ccucreativ.at
DTSTART:20261024T100000Z
DTEND:20261024T180000Z
DTSTAMP:20260331T191024Z
URL:https://www.ccucreativ.at/events/10tes-handarbeitstreffen-in-st-thomas
 -bei-waizenkirchen-2026/
SUMMARY:10tes Handarbeitstreffen in St. Thomas bei Waizenkirchen 2026
DESCRIPTION:Samstag\, 24. Oktober 2026 VON 10:00 BIS 18 Uhr\,4732 St. Thoma
 s\, Pfarre St. Thomas Österreich\nHandarbeiten verbindet\nUnter diesem Mo
 tto lade ich herzlich zu einem kreativen Miteinander ein.Ein Tag zum Plaud
 ern\, Lachen und natürlich zum gemeinsamen Handarbeiten – ganz im Zeich
 en der Freude am Tun.\nOb Stricken\, Häkeln\, Weben\, Sticken\, Spinnen o
 der Klöppeln – jedes Projekt ist willkommen\, und jede Handarbeitsbegei
 sterte ebenso.Gerne könnt ihr eure Spinnräder\, Webrahmen oder anderen A
 rbeitsmaterialien mitbringen – es steht ausreichend Platz zur Verfügung
 \, um eure Werke in gemütlicher Runde weiterzuführen oder Neues zu begin
 nen.\nIch bringe ein kleines\, feines Sortiment an handgefärbter Wolle un
 d ausgewähltem Strickzubehör mit – vielleicht ist ja das eine oder and
 ere Stück dabei\, das euch inspiriert.\nVeranstaltungsort:Pfarre St. Thom
 as\nAnreise mit öffentlichen Verkehrsmitteln:gerne wird ein Shuttledienst
  vom Bahnhof Grieskirchen eingerichtet. Oder vom Bahnhof Wels gibt es eine
  Mitfahrgelegenheit. Bitte einfach rechtzeitig melden.\nFür das leibliche
  Wohl ist ebenfalls gesorgt: Ich bringe Kaffee und kleine Knabbereien mit.
  Wer gerne etwas zum Buffet beitragen möchte – sehr gerne\, jede kulina
 rische Ergänzung ist willkommen und macht das Beisammensein noch vielfäl
 tiger.\nWeitere Informationen und Anmeldung: 0660 / 134 60 31 claudia@cc
 ucreativ.at
ATTACH;FMTTYPE=image/jpeg:https://www.ccucreativ.at/wp-content/uploads/202
 3/05/Handarbeitstreffen.jpg
CATEGORIES:Treffen
LOCATION:Pfarrheim St. Thomas bei Waizenkirchen\, ST. Thomas\, St. Thomas b
 ei Waizenkirchen\, Oberösterreich\, 4732\, Österreich
X-APPLE-STRUCTURED-LOCATION;VALUE=URI;X-ADDRESS=ST. Thomas\, St. Thomas bei
  Waizenkirchen\, Oberösterreich\, 4732\, Österreich;X-APPLE-RADIUS=100;X
 -TITLE=Pfarrheim St. Thomas bei Waizenkirchen:geo:0,0
END:VEVENT
END:VCALENDAR