BEGIN:VCALENDAR
VERSION:2.0
PRODID:-//wp-events-plugin.com//6.4.1//EN
TZID:Europe/Vienna
X-WR-TIMEZONE:Europe/Vienna
BEGIN:VEVENT
UID:185@ccucreativ.at
DTSTART:20261114T100000Z
DTEND:20261114T180000Z
DTSTAMP:20260331T191104Z
URL:https://www.ccucreativ.at/events/11tes-handarbeitstreffen-in-st-thomas
 -bei-waizenkirchen-2026/
SUMMARY:11tes Handarbeitstreffen in St. Thomas bei Waizenkirchen 2026
DESCRIPTION:Samstag\, 14. November 2026 VON 10:00 BIS 18 Uhr\,4732 St. Thom
 as\, Pfarre St. Thomas Österreich\nHandarbeiten verbindet\nUnter diesem M
 otto lade ich herzlich zu einem kreativen Miteinander ein.Ein Tag zum Plau
 dern\, Lachen und natürlich zum gemeinsamen Handarbeiten – ganz im Zeic
 hen der Freude am Tun.\nOb Stricken\, Häkeln\, Weben\, Sticken\, Spinnen 
 oder Klöppeln – jedes Projekt ist willkommen\, und jede Handarbeitsbege
 isterte ebenso.Gerne könnt ihr eure Spinnräder\, Webrahmen oder anderen 
 Arbeitsmaterialien mitbringen – es steht ausreichend Platz zur Verfügun
 g\, um eure Werke in gemütlicher Runde weiterzuführen oder Neues zu begi
 nnen.\nIch bringe ein kleines\, feines Sortiment an handgefärbter Wolle u
 nd ausgewähltem Strickzubehör mit – vielleicht ist ja das eine oder an
 dere Stück dabei\, das euch inspiriert.\nVeranstaltungsort:Pfarre St. Tho
 mas\nAnreise mit öffentlichen Verkehrsmitteln:gerne wird ein Shuttlediens
 t vom Bahnhof Grieskirchen eingerichtet. Oder vom Bahnhof Wels gibt es ein
 e Mitfahrgelegenheit. Bitte einfach rechtzeitig melden.\nFür das leiblich
 e Wohl ist ebenfalls gesorgt: Ich bringe Kaffee und kleine Knabbereien mit
 . Wer gerne etwas zum Buffet beitragen möchte – sehr gerne\, jede kulin
 arische Ergänzung ist willkommen und macht das Beisammensein noch vielfä
 ltiger.\nWeitere Informationen und Anmeldung: 0660 / 134 60 31 claudia@c
 cucreativ.at
ATTACH;FMTTYPE=image/jpeg:https://www.ccucreativ.at/wp-content/uploads/202
 3/05/Handarbeitstreffen.jpg
CATEGORIES:Treffen
LOCATION:Pfarrheim St. Thomas bei Waizenkirchen\, ST. Thomas\, St. Thomas b
 ei Waizenkirchen\, Oberösterreich\, 4732\, Österreich
X-APPLE-STRUCTURED-LOCATION;VALUE=URI;X-ADDRESS=ST. Thomas\, St. Thomas bei
  Waizenkirchen\, Oberösterreich\, 4732\, Österreich;X-APPLE-RADIUS=100;X
 -TITLE=Pfarrheim St. Thomas bei Waizenkirchen:geo:0,0
END:VEVENT
END:VCALENDAR