BEGIN:VCALENDAR
VERSION:2.0
PRODID:-//wp-events-plugin.com//6.4.1//EN
TZID:Europe/Vienna
X-WR-TIMEZONE:Europe/Vienna
BEGIN:VEVENT
UID:181@ccucreativ.at
DTSTART:20260718T100000Z
DTEND:20260718T180000Z
DTSTAMP:20260331T190846Z
URL:https://www.ccucreativ.at/events/7tes-handarbeitstreffen-in-st-thomas-
 bei-waizenkirchen-2026/
SUMMARY:7tes Handarbeitstreffen in St. Thomas bei Waizenkirchen 2026
DESCRIPTION:Samstag\, 18. Juli 2026 VON 10:00 BIS 18 Uhr\,4732 St. Thomas\,
  Pfarre St. Thomas Österreich\nHandarbeiten verbindet\nUnter diesem Motto
  lade ich herzlich zu einem kreativen Miteinander ein.Ein Tag zum Plaudern
 \, Lachen und natürlich zum gemeinsamen Handarbeiten – ganz im Zeichen 
 der Freude am Tun.\nOb Stricken\, Häkeln\, Weben\, Sticken\, Spinnen oder
  Klöppeln – jedes Projekt ist willkommen\, und jede Handarbeitsbegeiste
 rte ebenso.Gerne könnt ihr eure Spinnräder\, Webrahmen oder anderen Arbe
 itsmaterialien mitbringen – es steht ausreichend Platz zur Verfügung\, 
 um eure Werke in gemütlicher Runde weiterzuführen oder Neues zu beginnen
 .\nIch bringe ein kleines\, feines Sortiment an handgefärbter Wolle und a
 usgewähltem Strickzubehör mit – vielleicht ist ja das eine oder andere
  Stück dabei\, das euch inspiriert.\nVeranstaltungsort:Pfarre St. Thomas\
 nAnreise mit öffentlichen Verkehrsmitteln:gerne wird ein Shuttledienst vo
 m Bahnhof Grieskirchen eingerichtet. Oder vom Bahnhof Wels gibt es eine Mi
 tfahrgelegenheit. Bitte einfach rechtzeitig melden.\nFür das leibliche Wo
 hl ist ebenfalls gesorgt: Ich bringe Kaffee und kleine Knabbereien mit. We
 r gerne etwas zum Buffet beitragen möchte – sehr gerne\, jede kulinaris
 che Ergänzung ist willkommen und macht das Beisammensein noch vielfältig
 er.\nWeitere Informationen und Anmeldung: 0660 / 134 60 31 claudia@ccucr
 eativ.at
ATTACH;FMTTYPE=image/jpeg:https://www.ccucreativ.at/wp-content/uploads/202
 3/05/Handarbeitstreffen.jpg
CATEGORIES:Treffen
LOCATION:Pfarrheim St. Thomas bei Waizenkirchen\, ST. Thomas\, St. Thomas b
 ei Waizenkirchen\, Oberösterreich\, 4732\, Österreich
X-APPLE-STRUCTURED-LOCATION;VALUE=URI;X-ADDRESS=ST. Thomas\, St. Thomas bei
  Waizenkirchen\, Oberösterreich\, 4732\, Österreich;X-APPLE-RADIUS=100;X
 -TITLE=Pfarrheim St. Thomas bei Waizenkirchen:geo:0,0
END:VEVENT
END:VCALENDAR