BEGIN:VCALENDAR
VERSION:2.0
PRODID:-//wp-events-plugin.com//6.4.1//EN
TZID:Europe/Vienna
X-WR-TIMEZONE:Europe/Vienna
BEGIN:VEVENT
UID:182@ccucreativ.at
DTSTART:20260822T100000Z
DTEND:20260822T180000Z
DTSTAMP:20260331T190815Z
URL:https://www.ccucreativ.at/events/8tes-handarbeitstreffen-in-st-thomas-
 bei-waizenkirchen-2026/
SUMMARY:8tes Handarbeitstreffen in St. Thomas bei Waizenkirchen 2026
DESCRIPTION:Samstag\, 22. August 2026 VON 10:00 BIS 18 Uhr\,4732 St. Thomas
 \, Pfarre St. Thomas Österreich\nHandarbeiten verbindet\nUnter diesem Mot
 to lade ich herzlich zu einem kreativen Miteinander ein.Ein Tag zum Plaude
 rn\, Lachen und natürlich zum gemeinsamen Handarbeiten – ganz im Zeiche
 n der Freude am Tun.\nOb Stricken\, Häkeln\, Weben\, Sticken\, Spinnen od
 er Klöppeln – jedes Projekt ist willkommen\, und jede Handarbeitsbegeis
 terte ebenso.Gerne könnt ihr eure Spinnräder\, Webrahmen oder anderen Ar
 beitsmaterialien mitbringen – es steht ausreichend Platz zur Verfügung\
 , um eure Werke in gemütlicher Runde weiterzuführen oder Neues zu beginn
 en.\nIch bringe ein kleines\, feines Sortiment an handgefärbter Wolle und
  ausgewähltem Strickzubehör mit – vielleicht ist ja das eine oder ande
 re Stück dabei\, das euch inspiriert.\nVeranstaltungsort:Pfarre St. Thoma
 s\nAnreise mit öffentlichen Verkehrsmitteln:gerne wird ein Shuttledienst 
 vom Bahnhof Grieskirchen eingerichtet. Oder vom Bahnhof Wels gibt es eine 
 Mitfahrgelegenheit. Bitte einfach rechtzeitig melden.\nFür das leibliche 
 Wohl ist ebenfalls gesorgt: Ich bringe Kaffee und kleine Knabbereien mit. 
 Wer gerne etwas zum Buffet beitragen möchte – sehr gerne\, jede kulinar
 ische Ergänzung ist willkommen und macht das Beisammensein noch vielfält
 iger.\nWeitere Informationen und Anmeldung: 0660 / 134 60 31 claudia@ccu
 creativ.at
ATTACH;FMTTYPE=image/jpeg:https://www.ccucreativ.at/wp-content/uploads/202
 3/05/Handarbeitstreffen.jpg
CATEGORIES:Treffen
LOCATION:Pfarrheim St. Thomas bei Waizenkirchen\, ST. Thomas\, St. Thomas b
 ei Waizenkirchen\, Oberösterreich\, 4732\, Österreich
X-APPLE-STRUCTURED-LOCATION;VALUE=URI;X-ADDRESS=ST. Thomas\, St. Thomas bei
  Waizenkirchen\, Oberösterreich\, 4732\, Österreich;X-APPLE-RADIUS=100;X
 -TITLE=Pfarrheim St. Thomas bei Waizenkirchen:geo:0,0
END:VEVENT
END:VCALENDAR