BEGIN:VCALENDAR
VERSION:2.0
PRODID:-//wp-events-plugin.com//6.4.1//EN
TZID:Europe/Vienna
X-WR-TIMEZONE:Europe/Vienna
BEGIN:VEVENT
UID:183@ccucreativ.at
DTSTART:20260919T100000Z
DTEND:20260919T180000Z
DTSTAMP:20260331T190935Z
URL:https://www.ccucreativ.at/events/9tes-handarbeitstreffen-in-st-thomas-
 bei-waizenkirchen-2026/
SUMMARY:9tes Handarbeitstreffen in St. Thomas bei Waizenkirchen 2026
DESCRIPTION:Samstag\, 19. September 2026 VON 10:00 BIS 18 Uhr\,4732 St. Tho
 mas\, Pfarre St. Thomas Österreich\nHandarbeiten verbindet\nUnter diesem 
 Motto lade ich herzlich zu einem kreativen Miteinander ein.Ein Tag zum Pla
 udern\, Lachen und natürlich zum gemeinsamen Handarbeiten – ganz im Zei
 chen der Freude am Tun.\nOb Stricken\, Häkeln\, Weben\, Sticken\, Spinnen
  oder Klöppeln – jedes Projekt ist willkommen\, und jede Handarbeitsbeg
 eisterte ebenso.Gerne könnt ihr eure Spinnräder\, Webrahmen oder anderen
  Arbeitsmaterialien mitbringen – es steht ausreichend Platz zur Verfügu
 ng\, um eure Werke in gemütlicher Runde weiterzuführen oder Neues zu beg
 innen.\nIch bringe ein kleines\, feines Sortiment an handgefärbter Wolle 
 und ausgewähltem Strickzubehör mit – vielleicht ist ja das eine oder a
 ndere Stück dabei\, das euch inspiriert.\nVeranstaltungsort:Pfarre St. Th
 omas\nAnreise mit öffentlichen Verkehrsmitteln:gerne wird ein Shuttledien
 st vom Bahnhof Grieskirchen eingerichtet. Oder vom Bahnhof Wels gibt es ei
 ne Mitfahrgelegenheit. Bitte einfach rechtzeitig melden.\nFür das leiblic
 he Wohl ist ebenfalls gesorgt: Ich bringe Kaffee und kleine Knabbereien mi
 t. Wer gerne etwas zum Buffet beitragen möchte – sehr gerne\, jede kuli
 narische Ergänzung ist willkommen und macht das Beisammensein noch vielf
 ältiger.\nWeitere Informationen und Anmeldung: 0660 / 134 60 31 claudia
 @ccucreativ.at
ATTACH;FMTTYPE=image/jpeg:https://www.ccucreativ.at/wp-content/uploads/202
 3/05/Handarbeitstreffen.jpg
CATEGORIES:Treffen
LOCATION:Pfarrheim St. Thomas bei Waizenkirchen\, ST. Thomas\, St. Thomas b
 ei Waizenkirchen\, Oberösterreich\, 4732\, Österreich
X-APPLE-STRUCTURED-LOCATION;VALUE=URI;X-ADDRESS=ST. Thomas\, St. Thomas bei
  Waizenkirchen\, Oberösterreich\, 4732\, Österreich;X-APPLE-RADIUS=100;X
 -TITLE=Pfarrheim St. Thomas bei Waizenkirchen:geo:0,0
END:VEVENT
END:VCALENDAR