BEGIN:VCALENDAR
VERSION:2.0
PRODID:-//wp-events-plugin.com//6.4.1//EN
TZID:Europe/Vienna
X-WR-TIMEZONE:Europe/Vienna
BEGIN:VEVENT
UID:187@ccucreativ.at
DTSTART:20260426T100000Z
DTEND:20260426T180000Z
DTSTAMP:20260331T191931Z
URL:https://www.ccucreativ.at/events/fruehlngsmarkt-auf-burg-frauenstein-2
 /
SUMMARY:Frühlingsmarkt auf Burg Frauenstein
DESCRIPTION:Frühlngsmarkt auf Burg Frauenstein\n\nDer Verein Lebendiges Fr
 auenstein\, der seit 1997 besteht und dessen Vereinszweck es ist\, die ehe
 malige Burg Frauenstein zu erhalten\, veranstaltet am Sonntag\, den 26. Ap
 ril 2026 von 10:00 bis 18:00 einen Frühlingsmarkt.\nFreuen Sie sich auf r
 egionales Handwerk\, Deko- und Geschenkartikel sowie lokale Künstler.\nEi
 ntritt frei!\nDer Verein Lebendiges Frauenstein freut sich über Ihren Bes
 uch!\n\nhttps://www.burg-frauenstein.com/events/\n\nIch bin bei diesem Mar
 kt dabei und freue mich auf viele neue Gesichter sowie auf Altbekannte.
ATTACH;FMTTYPE=image/jpeg:https://www.ccucreativ.at/wp-content/uploads/202
 6/03/IMG_20250427_095531.jpg
CATEGORIES:Markt
LOCATION:Burg Frauenstein\, Frauenstein 1\, Mining\, Oberösterreich\, 4962
 \, Österreich
X-APPLE-STRUCTURED-LOCATION;VALUE=URI;X-ADDRESS=Frauenstein 1\, Mining\, Ob
 erösterreich\, 4962\, Österreich;X-APPLE-RADIUS=100;X-TITLE=Burg Frauens
 tein:geo:0,0
END:VEVENT
END:VCALENDAR