BEGIN:VCALENDAR
VERSION:2.0
PRODID:-//wp-events-plugin.com//6.4.1//EN
TZID:Europe/Vienna
X-WR-TIMEZONE:Europe/Vienna
BEGIN:VEVENT
UID:189@ccucreativ.at
DTSTART:20260605T100000Z
DTEND:20260607T170000Z
DTSTAMP:20260331T195004Z
URL:https://www.ccucreativ.at/events/holz-und-webereimarkt-helfenberg-2/
SUMMARY:Holz- und Webereimarkt Helfenberg
DESCRIPTION:Geschäftiges Treiben trifft Gemütlichkeit\nDie historischen G
 emäuer der 180 Jahre alten Fabrik und auch das gemütlich gestaltete Area
 l mit seinen vielen kleinen Ständen\, Handwerk\, Kulinarik und Musik lade
 n zum Stöbern\, Schlendern und Verweilen ein. Die Besucher\, aber auch di
 e Aussteller sind begeistert\, weil viele Kleinigkeiten bei diesem Markt w
 underbar vom Veranstalter erdacht und gemacht werden. Außerdem ist der 
 „halbe Ort auf den Beinen“\, um den Markt wieder so besonders zu mache
 n: Der Musikverein\, die Feuerwehr\, der Sportverein und viele Einzelperso
 nen unterstützen die Veranstalter der Naturfabrik Ahorn.\nUnd ich bin dab
 ei\nhttps://www.holz-webereimarkt.at/wp/?page_id=40\n\n&nbsp\;
ATTACH;FMTTYPE=image/jpeg:https://www.ccucreativ.at/wp-content/uploads/202
 6/03/IMG-20240531-WA0003.jpg
CATEGORIES:Markt
LOCATION:Helfenberg\, Rohrbacherstr. 6-7\, Helfenberg\, Oberösterreich\, 4
 184 \, Österreich
X-APPLE-STRUCTURED-LOCATION;VALUE=URI;X-ADDRESS=Rohrbacherstr. 6-7\, Helfen
 berg\, Oberösterreich\, 4184 \, Österreich;X-APPLE-RADIUS=100;X-TITLE=He
 lfenberg:geo:0,0
END:VEVENT
END:VCALENDAR