BEGIN:VCALENDAR
VERSION:2.0
PRODID:-//wp-events-plugin.com//6.4.1//EN
TZID:Europe/Vienna
X-WR-TIMEZONE:Europe/Vienna
BEGIN:VEVENT
UID:188@ccucreativ.at
DTSTART:20260501T100000Z
DTEND:20260503T180000Z
DTSTAMP:20260331T192753Z
URL:https://www.ccucreativ.at/events/kunst-werk-tage-auf-der-burg-schallab
 urg-im-fruehjahr-2/
SUMMARY:KUNST WERK TAGE auf der Burg Schallaburg im Frühjahr
DESCRIPTION:\n\n\n\nTermin: 01. Mai -03. Mai 2026\nKUNSTHANDWERKSMARKT AUF 
 DER SCHALLABURG\njeweils von 9:00 - 18:00 Uhr\n\n\n\n\n\n\n\n\n\n2026 find
 en die beliebten KUNST WERK TAGE in Kooperation mit der Wirtschaftskammer 
 Niederösterreich im Mai auf der Schallaburg statt. Drei Tage lang stehen 
 der Schlossgarten ganz im Zeichen von Kunst\, Schmuck &amp\; Design.\n\n\n
 \nKunstwerktage auf der Schallaburg – Handwerkskunst hautnah erleben!\n\
 nErleben Sie die Kunstwerktage auf der Schallaburg und entdecken Sie einzi
 gartige Handwerkskunst in besonderer Atmosphäre!\n\nSind Sie auf der Such
 e nach besonderen Kunstwerken und einzigartigen Geschenken? Möchten Sie K
 unsthandwerker:innen bei ihrer Arbeit über die Schulter schauen und die G
 eschichten hinter ihren Werken entdecken? Lassen Sie sich von traditionell
 er Handwerkskunst inspirieren und genießen Sie die unverwechselbaren Kuns
 t Werk Tage auf der Schallaburg!\n\n\nhttps://www.schallaburg.at/de/produk
 tionen/kunst-werk-tage/3797\n\n\n\n\n\n
ATTACH;FMTTYPE=image/jpeg:https://www.ccucreativ.at/wp-content/uploads/202
 6/03/IMG_20240426_113302.jpg
CATEGORIES:Markt
LOCATION:Burg Schallaburg\, Schallaburg 1\, Schallaburg \, Niederösterreic
 h\, 3382 \, Österreich
X-APPLE-STRUCTURED-LOCATION;VALUE=URI;X-ADDRESS=Schallaburg 1\, Schallaburg
  \, Niederösterreich\, 3382 \, Österreich;X-APPLE-RADIUS=100;X-TITLE=Bur
 g Schallaburg:geo:0,0
END:VEVENT
END:VCALENDAR